BEGIN:VCALENDAR
VERSION:2.0
PRODID:-//ChamberMaster//Event Calendar 2.0//EN
METHOD:PUBLISH
X-PUBLISHED-TTL:P3D
REFRESH-INTERVAL:P3D
CALSCALE:GREGORIAN
BEGIN:VEVENT
DTSTART:20250904T213000Z
DTEND:20250904T223000Z
X-MICROSOFT-CDO-ALLDAYEVENT:FALSE
SUMMARY:September Coffee + Connect 2025
DESCRIPTION:Join us for our next Coffee + Connect!\n\n \n\nStart your morning with a great coffee and relaxed networking alongside fellow Maroochydore Chamber members and other business-minded locals from across the Coast.\n\n \n\nThis is the perfect opportunity to:\n\n  Introduce yourself and your organisation\n\n  Make new connections\n\n  Share ideas and experiences\n\n  Learn more about your local business chamber\n\n \n\nWe believe in creating business opportunities through conversation - all in a welcoming\, relaxed atmosphere.\n\n \n\nTip: Don't forget your business card for the Business Card Draw!\n\n \n\nREGISTRATION IS REQUIRED - we can't wait to see you there!
X-ALT-DESC;FMTTYPE=text/html:<p style="box-sizing: inherit\; margin: 0px\; padding: 0px\; border-color: rgba(0\, 0\, 0\, 0.9)\; border-style: none\; border-width: 0px\; border-image: none 100% / 1 / 0 stretch\; font-size: 20px\; vertical-align: baseline\; background-image: none\; background-position: 0% 0%\; background-size: auto\; background-repeat: repeat\; background-attachment: scroll\; background-origin: padding-box\; background-clip: border-box\; line-height: 1.5\; color: rgba(0\, 0\, 0\, 0.9)\; font-family: -apple-system\, system-ui\, BlinkMacSystemFont\, &quot\;Segoe UI&quot\;\, Roboto\, &quot\;Helvetica Neue&quot\;\, &quot\;Fira Sans&quot\;\, Ubuntu\, Oxygen\, &quot\;Oxygen Sans&quot\;\, Cantarell\, &quot\;Droid Sans&quot\;\, &quot\;Apple Color Emoji&quot\;\, &quot\;Segoe UI Emoji&quot\;\, &quot\;Segoe UI Emoji&quot\;\, &quot\;Segoe UI Symbol&quot\;\, &quot\;Lucida Grande&quot\;\, Helvetica\, Arial\, sans-serif\; cursor: text\; counter-reset: list-1 0 list-2 0 list-3 0 list-4 0 list-5 0 list-6 0 list-7 0 list-8 0 list-9 0\; white-space-collapse: preserve\;"><span style="font-size:14px\;">Join us for our next Coffee + Connect!</span><br />\n&nbsp\;</p>\n\n<p style="box-sizing: inherit\; margin: 0px\; padding: 0px\; border-color: rgba(0\, 0\, 0\, 0.9)\; border-style: none\; border-width: 0px\; border-image: none 100% / 1 / 0 stretch\; font-size: 20px\; vertical-align: baseline\; background-image: none\; background-position: 0% 0%\; background-size: auto\; background-repeat: repeat\; background-attachment: scroll\; background-origin: padding-box\; background-clip: border-box\; line-height: 1.5\; color: rgba(0\, 0\, 0\, 0.9)\; font-family: -apple-system\, system-ui\, BlinkMacSystemFont\, &quot\;Segoe UI&quot\;\, Roboto\, &quot\;Helvetica Neue&quot\;\, &quot\;Fira Sans&quot\;\, Ubuntu\, Oxygen\, &quot\;Oxygen Sans&quot\;\, Cantarell\, &quot\;Droid Sans&quot\;\, &quot\;Apple Color Emoji&quot\;\, &quot\;Segoe UI Emoji&quot\;\, &quot\;Segoe UI Emoji&quot\;\, &quot\;Segoe UI Symbol&quot\;\, &quot\;Lucida Grande&quot\;\, Helvetica\, Arial\, sans-serif\; cursor: text\; counter-reset: list-1 0 list-2 0 list-3 0 list-4 0 list-5 0 list-6 0 list-7 0 list-8 0 list-9 0\; white-space-collapse: preserve\;"><span style="font-size:14px\;">Start your morning with a great coffee and relaxed networking alongside fellow Maroochydore Chamber members and other business-minded locals from across the Coast.</span></p>\n\n<p style="box-sizing: inherit\; margin: 0px\; padding: 0px\; border-color: rgba(0\, 0\, 0\, 0.9)\; border-style: none\; border-width: 0px\; border-image: none 100% / 1 / 0 stretch\; font-size: 20px\; vertical-align: baseline\; background-image: none\; background-position: 0% 0%\; background-size: auto\; background-repeat: repeat\; background-attachment: scroll\; background-origin: padding-box\; background-clip: border-box\; line-height: 1.5\; color: rgba(0\, 0\, 0\, 0.9)\; font-family: -apple-system\, system-ui\, BlinkMacSystemFont\, &quot\;Segoe UI&quot\;\, Roboto\, &quot\;Helvetica Neue&quot\;\, &quot\;Fira Sans&quot\;\, Ubuntu\, Oxygen\, &quot\;Oxygen Sans&quot\;\, Cantarell\, &quot\;Droid Sans&quot\;\, &quot\;Apple Color Emoji&quot\;\, &quot\;Segoe UI Emoji&quot\;\, &quot\;Segoe UI Emoji&quot\;\, &quot\;Segoe UI Symbol&quot\;\, &quot\;Lucida Grande&quot\;\, Helvetica\, Arial\, sans-serif\; cursor: text\; counter-reset: list-1 0 list-2 0 list-3 0 list-4 0 list-5 0 list-6 0 list-7 0 list-8 0 list-9 0\; white-space-collapse: preserve\;">&nbsp\;</p>\n\n<p style="box-sizing: inherit\; margin: 0px\; padding: 0px\; border-color: rgba(0\, 0\, 0\, 0.9)\; border-style: none\; border-width: 0px\; border-image: none 100% / 1 / 0 stretch\; font-size: 20px\; vertical-align: baseline\; background-image: none\; background-position: 0% 0%\; background-size: auto\; background-repeat: repeat\; background-attachment: scroll\; background-origin: padding-box\; background-clip: border-box\; line-height: 1.5\; color: rgba(0\, 0\, 0\, 0.9)\; font-family: -apple-system\, system-ui\, BlinkMacSystemFont\, &quot\;Segoe UI&quot\;\, Roboto\, &quot\;Helvetica Neue&quot\;\, &quot\;Fira Sans&quot\;\, Ubuntu\, Oxygen\, &quot\;Oxygen Sans&quot\;\, Cantarell\, &quot\;Droid Sans&quot\;\, &quot\;Apple Color Emoji&quot\;\, &quot\;Segoe UI Emoji&quot\;\, &quot\;Segoe UI Emoji&quot\;\, &quot\;Segoe UI Symbol&quot\;\, &quot\;Lucida Grande&quot\;\, Helvetica\, Arial\, sans-serif\; cursor: text\; counter-reset: list-1 0 list-2 0 list-3 0 list-4 0 list-5 0 list-6 0 list-7 0 list-8 0 list-9 0\; white-space-collapse: preserve\;"><span style="font-size:14px\;">This is the perfect opportunity to:</span></p>\n\n<p style="box-sizing: inherit\; margin: 0px\; padding: 0px\; border-color: rgba(0\, 0\, 0\, 0.9)\; border-style: none\; border-width: 0px\; border-image: none 100% / 1 / 0 stretch\; font-size: 20px\; vertical-align: baseline\; background-image: none\; background-position: 0% 0%\; background-size: auto\; background-repeat: repeat\; background-attachment: scroll\; background-origin: padding-box\; background-clip: border-box\; line-height: 1.5\; color: rgba(0\, 0\, 0\, 0.9)\; font-family: -apple-system\, system-ui\, BlinkMacSystemFont\, &quot\;Segoe UI&quot\;\, Roboto\, &quot\;Helvetica Neue&quot\;\, &quot\;Fira Sans&quot\;\, Ubuntu\, Oxygen\, &quot\;Oxygen Sans&quot\;\, Cantarell\, &quot\;Droid Sans&quot\;\, &quot\;Apple Color Emoji&quot\;\, &quot\;Segoe UI Emoji&quot\;\, &quot\;Segoe UI Emoji&quot\;\, &quot\;Segoe UI Symbol&quot\;\, &quot\;Lucida Grande&quot\;\, Helvetica\, Arial\, sans-serif\; cursor: text\; counter-reset: list-1 0 list-2 0 list-3 0 list-4 0 list-5 0 list-6 0 list-7 0 list-8 0 list-9 0\; white-space-collapse: preserve\;"><span style="font-size:14px\;">&bull\; Introduce yourself and your organisation</span></p>\n\n<p style="box-sizing: inherit\; margin: 0px\; padding: 0px\; border-color: rgba(0\, 0\, 0\, 0.9)\; border-style: none\; border-width: 0px\; border-image: none 100% / 1 / 0 stretch\; font-size: 20px\; vertical-align: baseline\; background-image: none\; background-position: 0% 0%\; background-size: auto\; background-repeat: repeat\; background-attachment: scroll\; background-origin: padding-box\; background-clip: border-box\; line-height: 1.5\; color: rgba(0\, 0\, 0\, 0.9)\; font-family: -apple-system\, system-ui\, BlinkMacSystemFont\, &quot\;Segoe UI&quot\;\, Roboto\, &quot\;Helvetica Neue&quot\;\, &quot\;Fira Sans&quot\;\, Ubuntu\, Oxygen\, &quot\;Oxygen Sans&quot\;\, Cantarell\, &quot\;Droid Sans&quot\;\, &quot\;Apple Color Emoji&quot\;\, &quot\;Segoe UI Emoji&quot\;\, &quot\;Segoe UI Emoji&quot\;\, &quot\;Segoe UI Symbol&quot\;\, &quot\;Lucida Grande&quot\;\, Helvetica\, Arial\, sans-serif\; cursor: text\; counter-reset: list-1 0 list-2 0 list-3 0 list-4 0 list-5 0 list-6 0 list-7 0 list-8 0 list-9 0\; white-space-collapse: preserve\;"><span style="font-size:14px\;">&bull\; Make new connections</span></p>\n\n<p style="box-sizing: inherit\; margin: 0px\; padding: 0px\; border-color: rgba(0\, 0\, 0\, 0.9)\; border-style: none\; border-width: 0px\; border-image: none 100% / 1 / 0 stretch\; font-size: 20px\; vertical-align: baseline\; background-image: none\; background-position: 0% 0%\; background-size: auto\; background-repeat: repeat\; background-attachment: scroll\; background-origin: padding-box\; background-clip: border-box\; line-height: 1.5\; color: rgba(0\, 0\, 0\, 0.9)\; font-family: -apple-system\, system-ui\, BlinkMacSystemFont\, &quot\;Segoe UI&quot\;\, Roboto\, &quot\;Helvetica Neue&quot\;\, &quot\;Fira Sans&quot\;\, Ubuntu\, Oxygen\, &quot\;Oxygen Sans&quot\;\, Cantarell\, &quot\;Droid Sans&quot\;\, &quot\;Apple Color Emoji&quot\;\, &quot\;Segoe UI Emoji&quot\;\, &quot\;Segoe UI Emoji&quot\;\, &quot\;Segoe UI Symbol&quot\;\, &quot\;Lucida Grande&quot\;\, Helvetica\, Arial\, sans-serif\; cursor: text\; counter-reset: list-1 0 list-2 0 list-3 0 list-4 0 list-5 0 list-6 0 list-7 0 list-8 0 list-9 0\; white-space-collapse: preserve\;"><span style="font-size:14px\;">&bull\; Share ideas and experiences</span></p>\n\n<p style="box-sizing: inherit\; margin: 0px\; padding: 0px\; border-color: rgba(0\, 0\, 0\, 0.9)\; border-style: none\; border-width: 0px\; border-image: none 100% / 1 / 0 stretch\; font-size: 20px\; vertical-align: baseline\; background-image: none\; background-position: 0% 0%\; background-size: auto\; background-repeat: repeat\; background-attachment: scroll\; background-origin: padding-box\; background-clip: border-box\; line-height: 1.5\; color: rgba(0\, 0\, 0\, 0.9)\; font-family: -apple-system\, system-ui\, BlinkMacSystemFont\, &quot\;Segoe UI&quot\;\, Roboto\, &quot\;Helvetica Neue&quot\;\, &quot\;Fira Sans&quot\;\, Ubuntu\, Oxygen\, &quot\;Oxygen Sans&quot\;\, Cantarell\, &quot\;Droid Sans&quot\;\, &quot\;Apple Color Emoji&quot\;\, &quot\;Segoe UI Emoji&quot\;\, &quot\;Segoe UI Emoji&quot\;\, &quot\;Segoe UI Symbol&quot\;\, &quot\;Lucida Grande&quot\;\, Helvetica\, Arial\, sans-serif\; cursor: text\; counter-reset: list-1 0 list-2 0 list-3 0 list-4 0 list-5 0 list-6 0 list-7 0 list-8 0 list-9 0\; white-space-collapse: preserve\;"><span style="font-size:14px\;">&bull\; Learn more about your local business chamber</span></p>\n\n<p style="box-sizing: inherit\; margin: 0px\; padding: 0px\; border-color: rgba(0\, 0\, 0\, 0.9)\; border-style: none\; border-width: 0px\; border-image: none 100% / 1 / 0 stretch\; font-size: 20px\; vertical-align: baseline\; background-image: none\; background-position: 0% 0%\; background-size: auto\; background-repeat: repeat\; background-attachment: scroll\; background-origin: padding-box\; background-clip: border-box\; line-height: 1.5\; color: rgba(0\, 0\, 0\, 0.9)\; font-family: -apple-system\, system-ui\, BlinkMacSystemFont\, &quot\;Segoe UI&quot\;\, Roboto\, &quot\;Helvetica Neue&quot\;\, &quot\;Fira Sans&quot\;\, Ubuntu\, Oxygen\, &quot\;Oxygen Sans&quot\;\, Cantarell\, &quot\;Droid Sans&quot\;\, &quot\;Apple Color Emoji&quot\;\, &quot\;Segoe UI Emoji&quot\;\, &quot\;Segoe UI Emoji&quot\;\, &quot\;Segoe UI Symbol&quot\;\, &quot\;Lucida Grande&quot\;\, Helvetica\, Arial\, sans-serif\; cursor: text\; counter-reset: list-1 0 list-2 0 list-3 0 list-4 0 list-5 0 list-6 0 list-7 0 list-8 0 list-9 0\; white-space-collapse: preserve\;">&nbsp\;</p>\n\n<p style="box-sizing: inherit\; margin: 0px\; padding: 0px\; border-color: rgba(0\, 0\, 0\, 0.9)\; border-style: none\; border-width: 0px\; border-image: none 100% / 1 / 0 stretch\; font-size: 20px\; vertical-align: baseline\; background-image: none\; background-position: 0% 0%\; background-size: auto\; background-repeat: repeat\; background-attachment: scroll\; background-origin: padding-box\; background-clip: border-box\; line-height: 1.5\; color: rgba(0\, 0\, 0\, 0.9)\; font-family: -apple-system\, system-ui\, BlinkMacSystemFont\, &quot\;Segoe UI&quot\;\, Roboto\, &quot\;Helvetica Neue&quot\;\, &quot\;Fira Sans&quot\;\, Ubuntu\, Oxygen\, &quot\;Oxygen Sans&quot\;\, Cantarell\, &quot\;Droid Sans&quot\;\, &quot\;Apple Color Emoji&quot\;\, &quot\;Segoe UI Emoji&quot\;\, &quot\;Segoe UI Emoji&quot\;\, &quot\;Segoe UI Symbol&quot\;\, &quot\;Lucida Grande&quot\;\, Helvetica\, Arial\, sans-serif\; cursor: text\; counter-reset: list-1 0 list-2 0 list-3 0 list-4 0 list-5 0 list-6 0 list-7 0 list-8 0 list-9 0\; white-space-collapse: preserve\;"><span style="font-size:14px\;">We believe in creating business opportunities through conversation - all in a welcoming\, relaxed atmosphere.</span></p>\n\n<p style="box-sizing: inherit\; margin: 0px\; padding: 0px\; border-color: rgba(0\, 0\, 0\, 0.9)\; border-style: none\; border-width: 0px\; border-image: none 100% / 1 / 0 stretch\; font-size: 20px\; vertical-align: baseline\; background-image: none\; background-position: 0% 0%\; background-size: auto\; background-repeat: repeat\; background-attachment: scroll\; background-origin: padding-box\; background-clip: border-box\; line-height: 1.5\; color: rgba(0\, 0\, 0\, 0.9)\; font-family: -apple-system\, system-ui\, BlinkMacSystemFont\, &quot\;Segoe UI&quot\;\, Roboto\, &quot\;Helvetica Neue&quot\;\, &quot\;Fira Sans&quot\;\, Ubuntu\, Oxygen\, &quot\;Oxygen Sans&quot\;\, Cantarell\, &quot\;Droid Sans&quot\;\, &quot\;Apple Color Emoji&quot\;\, &quot\;Segoe UI Emoji&quot\;\, &quot\;Segoe UI Emoji&quot\;\, &quot\;Segoe UI Symbol&quot\;\, &quot\;Lucida Grande&quot\;\, Helvetica\, Arial\, sans-serif\; cursor: text\; counter-reset: list-1 0 list-2 0 list-3 0 list-4 0 list-5 0 list-6 0 list-7 0 list-8 0 list-9 0\; white-space-collapse: preserve\;">&nbsp\;</p>\n\n<p style="box-sizing: inherit\; margin: 0px\; padding: 0px\; border-color: rgba(0\, 0\, 0\, 0.9)\; border-style: none\; border-width: 0px\; border-image: none 100% / 1 / 0 stretch\; font-size: 20px\; vertical-align: baseline\; background-image: none\; background-position: 0% 0%\; background-size: auto\; background-repeat: repeat\; background-attachment: scroll\; background-origin: padding-box\; background-clip: border-box\; line-height: 1.5\; color: rgba(0\, 0\, 0\, 0.9)\; font-family: -apple-system\, system-ui\, BlinkMacSystemFont\, &quot\;Segoe UI&quot\;\, Roboto\, &quot\;Helvetica Neue&quot\;\, &quot\;Fira Sans&quot\;\, Ubuntu\, Oxygen\, &quot\;Oxygen Sans&quot\;\, Cantarell\, &quot\;Droid Sans&quot\;\, &quot\;Apple Color Emoji&quot\;\, &quot\;Segoe UI Emoji&quot\;\, &quot\;Segoe UI Emoji&quot\;\, &quot\;Segoe UI Symbol&quot\;\, &quot\;Lucida Grande&quot\;\, Helvetica\, Arial\, sans-serif\; cursor: text\; counter-reset: list-1 0 list-2 0 list-3 0 list-4 0 list-5 0 list-6 0 list-7 0 list-8 0 list-9 0\; white-space-collapse: preserve\;"><span style="font-size:14px\;">Tip: Don&rsquo\;t forget your business card for the Business Card Draw!</span></p>\n\n<p style="box-sizing: inherit\; margin: 0px\; padding: 0px\; border-color: rgba(0\, 0\, 0\, 0.9)\; border-style: none\; border-width: 0px\; border-image: none 100% / 1 / 0 stretch\; font-size: 20px\; vertical-align: baseline\; background-image: none\; background-position: 0% 0%\; background-size: auto\; background-repeat: repeat\; background-attachment: scroll\; background-origin: padding-box\; background-clip: border-box\; line-height: 1.5\; color: rgba(0\, 0\, 0\, 0.9)\; font-family: -apple-system\, system-ui\, BlinkMacSystemFont\, &quot\;Segoe UI&quot\;\, Roboto\, &quot\;Helvetica Neue&quot\;\, &quot\;Fira Sans&quot\;\, Ubuntu\, Oxygen\, &quot\;Oxygen Sans&quot\;\, Cantarell\, &quot\;Droid Sans&quot\;\, &quot\;Apple Color Emoji&quot\;\, &quot\;Segoe UI Emoji&quot\;\, &quot\;Segoe UI Emoji&quot\;\, &quot\;Segoe UI Symbol&quot\;\, &quot\;Lucida Grande&quot\;\, Helvetica\, Arial\, sans-serif\; cursor: text\; counter-reset: list-1 0 list-2 0 list-3 0 list-4 0 list-5 0 list-6 0 list-7 0 list-8 0 list-9 0\; white-space-collapse: preserve\;">&nbsp\;</p>\n\n<p style="box-sizing: inherit\; margin: 0px\; padding: 0px\; border-color: rgba(0\, 0\, 0\, 0.9)\; border-style: none\; border-width: 0px\; border-image: none 100% / 1 / 0 stretch\; font-size: 20px\; vertical-align: baseline\; background-image: none\; background-position: 0% 0%\; background-size: auto\; background-repeat: repeat\; background-attachment: scroll\; background-origin: padding-box\; background-clip: border-box\; line-height: 1.5\; color: rgba(0\, 0\, 0\, 0.9)\; font-family: -apple-system\, system-ui\, BlinkMacSystemFont\, &quot\;Segoe UI&quot\;\, Roboto\, &quot\;Helvetica Neue&quot\;\, &quot\;Fira Sans&quot\;\, Ubuntu\, Oxygen\, &quot\;Oxygen Sans&quot\;\, Cantarell\, &quot\;Droid Sans&quot\;\, &quot\;Apple Color Emoji&quot\;\, &quot\;Segoe UI Emoji&quot\;\, &quot\;Segoe UI Emoji&quot\;\, &quot\;Segoe UI Symbol&quot\;\, &quot\;Lucida Grande&quot\;\, Helvetica\, Arial\, sans-serif\; cursor: text\; counter-reset: list-1 0 list-2 0 list-3 0 list-4 0 list-5 0 list-6 0 list-7 0 list-8 0 list-9 0\; white-space-collapse: preserve\;"><span style="font-size:14px\;">REGISTRATION IS REQUIRED - we can&rsquo\;t wait to see you there!</span></p>\n
LOCATION:Pier 33\, 33 Parkyn Parade\, Mooloolaba QLD
UID:e.3276.1127
SEQUENCE:3
DTSTAMP:20260422T003154Z
URL:https://members.maroochy.org/events/details/september-coffee-connect-2025-1127
END:VEVENT

END:VCALENDAR
