BEGIN:VCALENDAR
VERSION:2.0
PRODID:-//ChamberMaster//Event Calendar 2.0//EN
METHOD:PUBLISH
X-PUBLISHED-TTL:P3D
REFRESH-INTERVAL:P3D
CALSCALE:GREGORIAN
BEGIN:VEVENT
DTSTART:20251002T213000Z
DTEND:20251002T223000Z
X-MICROSOFT-CDO-ALLDAYEVENT:FALSE
SUMMARY:October Coffee + Connect 2025
DESCRIPTION:It's that time again - lock in October Coffee + Connect!\n\nAs we head towards the end of the year\, there's no better time to strengthen connections and share ideas over coffee.\n\nJoin us on Tuesday\, 3 October\, at The Nines Caf \, Maroochydore from 7:30 - 8:30am for meaningful conversations and local networking.\n\nThis month's Coffee + Connect is proudly sponsored by BDO - a trusted adviser delivering Audit\, Tax and Advisory services with the strength of a global network and the personal touch of their Sunshine Coast team. Guided by their values of IDEAS | PEOPLE | TRUST\, BDO supports businesses and individuals across industries to grow with confidence.\n\nDon't miss this opportunity to connect\, collaborate\, and kick off your October with purpose.
X-ALT-DESC;FMTTYPE=text/html:<p data-pm-slice="1 1 []"><span style="font-size:16px\;">It&rsquo\;s that time again - lock in October Coffee + Connect!</span></p>\n\n<p><span style="font-size:16px\;">As we head towards the end of the year\, there&rsquo\;s no better time to strengthen connections and share ideas over coffee.</span></p>\n\n<p><span style="font-size:16px\;">Join us on Tuesday\, 3 October\, at The Nines Caf&eacute\;\, Maroochydore from 7:30 - 8:30am for meaningful conversations and local networking.</span></p>\n\n<p><span style="font-size:16px\;">This month&rsquo\;s Coffee + Connect is proudly sponsored by BDO - a trusted adviser delivering Audit\, Tax and Advisory services with the strength of a global network and the personal touch of their Sunshine Coast team. Guided by their values of IDEAS | PEOPLE | TRUST\, BDO supports businesses and individuals across industries to grow with confidence.</span></p>\n\n<p><span style="font-size:16px\;">Don&rsquo\;t miss this opportunity to connect\, collaborate\, and kick off your October with purpose.</span></p>\n
LOCATION:The Nines Cafe Sunshine Homemaker Centre\, 17A Maroochydore Road\, Maroochydore Queensland 4558
UID:e.3276.1129
SEQUENCE:3
DTSTAMP:20260421T224348Z
URL:https://members.maroochy.org/events/details/october-coffee-connect-2025-1129
END:VEVENT

END:VCALENDAR
