BEGIN:VCALENDAR
VERSION:2.0
PRODID:-//ChamberMaster//Event Calendar 2.0//EN
METHOD:PUBLISH
X-PUBLISHED-TTL:P3D
REFRESH-INTERVAL:P3D
CALSCALE:GREGORIAN
BEGIN:VEVENT
DTSTART:20250618T073000Z
DTEND:20250618T093000Z
X-MICROSOFT-CDO-ALLDAYEVENT:FALSE
SUMMARY:Networking for a New Age - June 2025 Afterhours
DESCRIPTION:Networking for a New Age with Telstra Business Technology Centre!  \n\n  Ready to supercharge your connections? Join us for an electrifying evening at Toro Bar & Kitchen on Wednesday\, June 18th from 5:30 PM to 7:30 PM.\n\nThis inaugural networking night is proudly sponsored by Telstra Business Technology Centre\, bringing together innovators\, entrepreneurs\, and professionals for an evening of inspiration and collaboration.\n\nExpect an atmosphere buzzing with energy\, featuring:\n\n\n	\n	  A selection of refreshing drinks to toast new beginnings\n	\n	\n	   Delectable bites to keep you fueled\n	\n	\n	  Opportunities to mingle and forge meaningful connections\n	\n	  A vibrant setting to spark creativity and collaboration\n	 \n	  The opportunity to win a brand new Apple iPad Pro 13!\n\n\nWhether you're looking to expand your network\, discover new business opportunities\, or simply enjoy a lively evening with like-minded individuals\, this event is not to be missed!\n\n  Register now to secure your spot and be part of this exciting gathering! Let's shape the future of business together.
X-ALT-DESC;FMTTYPE=text/html:<p>&#127775\; <strong>Networking for a New Age with Telstra Business Technology Centre!</strong> &#127775\;</p>\n\n<p>&#128640\; Ready to supercharge your connections? Join us for an electrifying evening at <strong>Toro Bar &amp\; Kitchen</strong> on <strong>Wednesday\, June 18th</strong> from <strong>5:30 PM to 7:30 PM</strong>.</p>\n\n<p>This inaugural networking night is proudly sponsored by <strong>Telstra Business Technology Centre</strong>\, bringing together innovators\, entrepreneurs\, and professionals for an evening of inspiration and collaboration.</p>\n\n<p>Expect an atmosphere buzzing with energy\, featuring:</p>\n\n<ul>\n	<li>\n	<p>&#127863\; A selection of refreshing drinks to toast new beginnings</p>\n	</li>\n	<li>\n	<p>&#127869\;&#65039\; Delectable bites to keep you fueled</p>\n	</li>\n	<li>\n	<p>&#129309\; Opportunities to mingle and forge meaningful connections</p>\n	</li>\n	<li>&#127881\; A vibrant setting to spark creativity and collaboration</li>\n	<li>&nbsp\;</li>\n	<li><span class="x1xsqp64 xiy17q3 x1o6pynw x19co3pv xdj266r xcwd3tp xat24cr x39eecv x2b8uid" data-testid="emoji" style="cursor: default\; background-image: url(&quot\;https://static.xx.fbcdn.net/images/emoji.php/v9/t57/1/16/1f4f1.png&quot\;)\; background-size: 16px 16px\; white-space-collapse: preserve\;"><span class="xexx8yu xn5pp95 x18d9i69 x2fxd7x x3jgonx x1bhl96m">&#128241\;</span></span>&nbsp\;The opportunity to win a brand new Apple iPad Pro 13!</li>\n</ul>\n\n<p>Whether you&#39\;re looking to expand your network\, discover new business opportunities\, or simply enjoy a lively evening with like-minded individuals\, this event is not to be missed!</p>\n\n<p>&#128279\; <strong>Register now</strong> to secure your spot and be part of this exciting gathering! Let&#39\;s shape the future of business together. &#127760\;</p>\n
LOCATION:Toro Bar & Kitchen - 55 Plaza Parade\, Maroochydore
UID:e.3276.1123
SEQUENCE:3
DTSTAMP:20260422T060741Z
URL:https://members.maroochy.org/events/details/networking-for-a-new-age-june-2025-afterhours-1123
END:VEVENT

END:VCALENDAR
