BEGIN:VCALENDAR
VERSION:2.0
PRODID:-//ChamberMaster//Event Calendar 2.0//EN
METHOD:PUBLISH
X-PUBLISHED-TTL:P3D
REFRESH-INTERVAL:P3D
CALSCALE:GREGORIAN
BEGIN:VEVENT
DTSTART:20250501T213000Z
DTEND:20250501T223000Z
X-MICROSOFT-CDO-ALLDAYEVENT:FALSE
SUMMARY:May Coffee + Connect 2025
DESCRIPTION:Join us on Friday 2nd May for our next Coffee + Connect sponsored by Queensland Sotheby's International Realty!\n\n\n\nCome along and grab yourself a coffee before enjoying the morning networking with fellow Maroochydore Chamber members and other business-minded people from around the Coast.\n\n\n\nFeel free to introduce yourself and your organization to the other business owners\, make new connections\, share ideas and experiences\, or just come along to find out what your local business chamber is all about.\n\n\n\nWe promote business opportunities through conversation in a relaxing environment for all.\n\n\n\nDon't forget to bring along your business card to place into our Business Card Draw!\n\n\n\nWe look forward to seeing you all there!\n\n\n\nREGISTRATION IS REQUIRED!
X-ALT-DESC;FMTTYPE=text/html:<span style="font-size:14px\;"><span style="font-family:arial\;">Join us on Friday 2nd May for our next Coffee + Connect sponsored by Queensland Sotheby&#39\;s International Realty!<br />\n<br />\nCome along and grab yourself a coffee before enjoying the morning networking with fellow Maroochydore Chamber members and other business-minded people from around the Coast.<br />\n<br />\nFeel free to introduce yourself and your organization to the other business owners\, make new connections\, share ideas and experiences\, or just come along to find out what your local business chamber is all about.<br />\n<br />\nWe promote business opportunities through conversation in a relaxing environment for all.<br />\n<br />\nDon&#39\;t forget to bring along your business card to place into our Business Card Draw!<br />\n<br />\nWe look forward to seeing you all there!<br />\n<br />\nREGISTRATION IS REQUIRED!</span></span>
LOCATION:Queensland Sotheby's International Realty\, Maroochydore "The Corso" Shop 1/6 Sunshine Coast Parade Maroochydore QLD 4558
UID:e.3276.1113
SEQUENCE:3
DTSTAMP:20260422T060514Z
URL:https://members.maroochy.org/events/details/may-coffee-connect-2025-1113
END:VEVENT

END:VCALENDAR
