BEGIN:VCALENDAR
VERSION:2.0
PRODID:-//ChamberMaster//Event Calendar 2.0//EN
METHOD:PUBLISH
X-PUBLISHED-TTL:P3D
REFRESH-INTERVAL:P3D
CALSCALE:GREGORIAN
BEGIN:VEVENT
DTSTART:20260305T213000Z
DTEND:20260305T223000Z
X-MICROSOFT-CDO-ALLDAYEVENT:FALSE
SUMMARY:March Coffee + Connect 2026
DESCRIPTION:Morning Coffee & Connection\n\n\n\nJoin us for our next Coffee + Connect on Friday\, 6 March from 7:30am - 8:30am at SIP Maroochydore\, proudly sponsored by Love and Light Healing Sunshine Coast!\n\n\n\nThis special morning gathering will feature Thu\, founder of Love and Light Healing Sunshine Coast\, who will be launching something new and exciting. Be among the first to hear directly from her and gain exclusive insight into this new offering on the day.\n\n\n\nLove and Light Healing Sunshine Coast offers a unique approach to mental health therapy and healing\, combining evidence-based practices with holistic healing techniques to create a uniquely therapeutic and restorative experiences. \n\n\n\nThu will present her last business venture: something very exciting in the holistic wellbeing space.\n\n\n\nStart your morning with great coffee\, meaningful conversations and inspiring insights into workplace wellbeing!\n\n\n\nWe look forward to seeing you there!
X-ALT-DESC;FMTTYPE=text/html:Morning Coffee &amp\; Connection<br />\n<br />\nJoin us for our next Coffee + Connect on Friday\, 6 March from 7:30am - 8:30am at SIP Maroochydore\, proudly sponsored by Love and Light Healing Sunshine Coast!<br />\n<br />\nThis special morning gathering will feature Thu\, founder of Love and Light Healing Sunshine Coast\, who will be launching something new and exciting. Be among the first to hear directly from her and gain exclusive insight into this new offering on the day.<br />\n<br />\nLove and Light Healing Sunshine Coast offers a unique approach to mental health therapy and healing\, combining evidence-based practices with holistic healing techniques to create a uniquely therapeutic and restorative experiences.&nbsp\;<br />\n<br />\nThu will present her last business venture: something very exciting in the holistic wellbeing space.<br />\n<br />\nStart your morning with great coffee\, meaningful conversations and inspiring insights into workplace wellbeing!<br />\n<br />\nWe look forward to seeing you there!<br />\n<br />\n&nbsp\;
LOCATION:SIP Maroochydore\, 100 Duporth Ave\, Maroochydore QLD 4558
UID:e.3276.1139
SEQUENCE:3
DTSTAMP:20260423T082803Z
URL:https://members.maroochy.org/events/details/march-coffee-connect-2026-1139
END:VEVENT

END:VCALENDAR
