BEGIN:VCALENDAR
VERSION:2.0
PRODID:-//ChamberMaster//Event Calendar 2.0//EN
METHOD:PUBLISH
X-PUBLISHED-TTL:P3D
REFRESH-INTERVAL:P3D
CALSCALE:GREGORIAN
BEGIN:VEVENT
DTSTART:20250724T073000Z
DTEND:20250724T093000Z
X-MICROSOFT-CDO-ALLDAYEVENT:FALSE
SUMMARY:BBC Digital On Location July 2025
DESCRIPTION:Sip\, Socialise & Connect at BBC Digital's On Location Event!\n\nGet ready for a night of flavour\, connection and unforgettable moments as the Maroochydore Chamber of Commerce heads to BBC Digital on Thursday 24th July for our highly anticipated On Location event!\n\nStep inside BBC Digital's office for an exclusive evening where business meets indulgence. You'll be treated to a premium wine tasting experience by the renowned Hentley Farm Wines\, offering the perfect pairing of sophistication and socialising. Whether you're a seasoned wine lover or just enjoy a great glass with great company\, this event promises something special for everyone. \n\nExpect exceptional wines\, a relaxed and engaging atmosphere\, and conversations that spark collaboration and new business opportunities. This is more than networking - it's a chance to connect with like-minded professionals while enjoying a unique tasting journey that's sure to impress.\n\nIn 2023\, BBC Digital hosted one of our most talked-about events of the year - complete with fine wine\, fantastic food and the kind of energy that left everyone buzzing. This year\, we're doing it all again  and it's set to be even better.\n\nTickets are limited and will sell fast! Don't miss your chance to be part of this standout night.\n\n\n\nRegister now to secure your spot!
X-ALT-DESC;FMTTYPE=text/html:<div style="border: 0px\; font-variant-numeric: inherit\; font-variant-east-asian: inherit\; font-variant-alternates: inherit\; font-variant-position: inherit\; font-variant-emoji: inherit\; font-stretch: inherit\; font-size: 12pt\; line-height: inherit\; font-family: Aptos\, Aptos_EmbeddedFont\, Aptos_MSFontService\, Calibri\, Helvetica\, sans-serif\; font-optical-sizing: inherit\; font-size-adjust: inherit\; font-kerning: inherit\; font-feature-settings: inherit\; font-variation-settings: inherit\; margin: 1em 0px\; padding: 0px\; vertical-align: baseline\; color: rgb(0\, 0\, 0)\;"><span style="font-size:14px\;"><b data-olk-copy-source="MailCompose">Sip\, Socialise &amp\; Connect at BBC Digital&#39\;s On Location Event!</b></span></div>\n\n<div style="border: 0px\; font-variant-numeric: inherit\; font-variant-east-asian: inherit\; font-variant-alternates: inherit\; font-variant-position: inherit\; font-variant-emoji: inherit\; font-stretch: inherit\; font-size: 12pt\; line-height: inherit\; font-family: Aptos\, Aptos_EmbeddedFont\, Aptos_MSFontService\, Calibri\, Helvetica\, sans-serif\; font-optical-sizing: inherit\; font-size-adjust: inherit\; font-kerning: inherit\; font-feature-settings: inherit\; font-variation-settings: inherit\; margin: 1em 0px\; padding: 0px\; vertical-align: baseline\; color: rgb(0\, 0\, 0)\;"><span style="font-size:14px\;">Get ready for a night of flavour\, connection and unforgettable moments as the Maroochydore Chamber of Commerce heads to&nbsp\;<b>BBC Digital</b>&nbsp\;on&nbsp\;<b>Thursday 24th July</b>&nbsp\;for our highly anticipated&nbsp\;<b>On Location</b>&nbsp\;event!</span></div>\n\n<div style="border: 0px\; font-variant-numeric: inherit\; font-variant-east-asian: inherit\; font-variant-alternates: inherit\; font-variant-position: inherit\; font-variant-emoji: inherit\; font-stretch: inherit\; font-size: 12pt\; line-height: inherit\; font-family: Aptos\, Aptos_EmbeddedFont\, Aptos_MSFontService\, Calibri\, Helvetica\, sans-serif\; font-optical-sizing: inherit\; font-size-adjust: inherit\; font-kerning: inherit\; font-feature-settings: inherit\; font-variation-settings: inherit\; margin: 1em 0px\; padding: 0px\; vertical-align: baseline\; color: rgb(0\, 0\, 0)\;"><span style="font-size:14px\;">Step inside BBC Digital&rsquo\;s office for an exclusive evening where business meets indulgence. You&#39\;ll be treated to a&nbsp\;<b>premium wine tasting experience by the renowned <a href="https://hentleyfarm.com.au/collections/luxury">Hentley Farm Wines</a></b>\, offering the perfect pairing of sophistication and socialising. Whether you&#39\;re a seasoned wine lover or just enjoy a great glass with great company\, this event promises something special for everyone.&nbsp\;</span></div>\n\n<div style="border: 0px\; font-variant-numeric: inherit\; font-variant-east-asian: inherit\; font-variant-alternates: inherit\; font-variant-position: inherit\; font-variant-emoji: inherit\; font-stretch: inherit\; font-size: 12pt\; line-height: inherit\; font-family: Aptos\, Aptos_EmbeddedFont\, Aptos_MSFontService\, Calibri\, Helvetica\, sans-serif\; font-optical-sizing: inherit\; font-size-adjust: inherit\; font-kerning: inherit\; font-feature-settings: inherit\; font-variation-settings: inherit\; margin: 1em 0px\; padding: 0px\; vertical-align: baseline\; color: rgb(0\, 0\, 0)\;"><span style="font-size:14px\;">Expect&nbsp\;<b>exceptional wines</b>\,&nbsp\;<b>a relaxed and engaging atmosphere</b>\, and&nbsp\;<b>conversations that spark collaboration</b>&nbsp\;and new business opportunities. This is more than networking - it&rsquo\;s a chance to connect with like-minded professionals while enjoying a unique tasting journey that&rsquo\;s sure to impress.</span></div>\n\n<div style="border: 0px\; font-variant-numeric: inherit\; font-variant-east-asian: inherit\; font-variant-alternates: inherit\; font-variant-position: inherit\; font-variant-emoji: inherit\; font-stretch: inherit\; font-size: 12pt\; line-height: inherit\; font-family: Aptos\, Aptos_EmbeddedFont\, Aptos_MSFontService\, Calibri\, Helvetica\, sans-serif\; font-optical-sizing: inherit\; font-size-adjust: inherit\; font-kerning: inherit\; font-feature-settings: inherit\; font-variation-settings: inherit\; margin: 1em 0px\; padding: 0px\; vertical-align: baseline\; color: rgb(0\, 0\, 0)\;"><span style="font-size:14px\;">In 2023\, BBC Digital hosted one of our most talked-about events of the year - complete with fine wine\, fantastic food and the kind of energy that left everyone buzzing. This year\, we&rsquo\;re doing it all again&hellip\; and it&rsquo\;s set to be even better.</span></div>\n\n<div style="border: 0px\; font-variant-numeric: inherit\; font-variant-east-asian: inherit\; font-variant-alternates: inherit\; font-variant-position: inherit\; font-variant-emoji: inherit\; font-stretch: inherit\; font-size: 12pt\; line-height: inherit\; font-family: Aptos\, Aptos_EmbeddedFont\, Aptos_MSFontService\, Calibri\, Helvetica\, sans-serif\; font-optical-sizing: inherit\; font-size-adjust: inherit\; font-kerning: inherit\; font-feature-settings: inherit\; font-variation-settings: inherit\; margin: 1em 0px\; padding: 0px\; vertical-align: baseline\; color: rgb(0\, 0\, 0)\;"><span style="font-size:14px\;"><b>Tickets are limited and will sell fast! Don&rsquo\;t miss your chance to be part of this standout night.<br />\n<br />\nRegister now to secure your spot!</b></span></div>\n
LOCATION:BBC Digital - 115-117 Aerodrome Road\, Maroochydore QLD\, 4558
UID:e.3276.1124
SEQUENCE:3
DTSTAMP:20260422T025003Z
URL:https://members.maroochy.org/events/details/bbc-digital-on-location-july-2025-1124
END:VEVENT

END:VCALENDAR
